BEGIN:VCALENDAR
VERSION:2.0
PRODID:-//Cámara de Comercio de Puerto Rico - ECPv6.15.19//NONSGML v1.0//EN
CALSCALE:GREGORIAN
METHOD:PUBLISH
X-WR-CALNAME:Cámara de Comercio de Puerto Rico
X-ORIGINAL-URL:https://camarapr.org
X-WR-CALDESC:Events for Cámara de Comercio de Puerto Rico
REFRESH-INTERVAL;VALUE=DURATION:PT1H
X-Robots-Tag:noindex
X-PUBLISHED-TTL:PT1H
BEGIN:VTIMEZONE
TZID:America/Puerto_Rico
BEGIN:STANDARD
TZOFFSETFROM:-0400
TZOFFSETTO:-0400
TZNAME:AST
DTSTART:20210101T000000
END:STANDARD
END:VTIMEZONE
BEGIN:VEVENT
DTSTART;TZID=America/Puerto_Rico:20220224T090000
DTEND;TZID=America/Puerto_Rico:20220224T123000
DTSTAMP:20260423T140417
CREATED:20220126T213902Z
LAST-MODIFIED:20220128T215609Z
UID:13111-1645693200-1645705800@camarapr.org
SUMMARY:Current Tax Topics
DESCRIPTION:SAVE YOUR SPOT.  REGISTER TODAY\n			\n				Access the flyer\n			\n				\n				\n				\n				\n				Attention CPAs and investors:\nParticipate in our forum where we will cover the following topics: \n\nTax Reform – Possible changes in income tax for entities and individuals\nTax Reform – Possible changes in the consumption tax and simplification of the contributory system in the municipal patent area\nAlternatives for the elimination of the Inventory Tax\nTax Incentives for Resident Investor Individuals\nReplacing the 4% tax on manufacturers with IRS Acceptable Alternatives\n\n			\n				Meet our Speakers
URL:https://camarapr.org/event/tax-topics-2022/
LOCATION:ZOOM
ATTACH;FMTTYPE=image/jpeg:https://camarapr.org/wp-content/uploads/feature-image-cont-2022.jpg
END:VEVENT
END:VCALENDAR