BEGIN:VCALENDAR
VERSION:2.0
PRODID:-//Cámara de Comercio de Puerto Rico - ECPv6.15.19//NONSGML v1.0//EN
CALSCALE:GREGORIAN
METHOD:PUBLISH
X-ORIGINAL-URL:https://camarapr.org
X-WR-CALDESC:Events for Cámara de Comercio de Puerto Rico
REFRESH-INTERVAL;VALUE=DURATION:PT1H
X-Robots-Tag:noindex
X-PUBLISHED-TTL:PT1H
BEGIN:VTIMEZONE
TZID:America/Puerto_Rico
BEGIN:STANDARD
TZOFFSETFROM:-0400
TZOFFSETTO:-0400
TZNAME:AST
DTSTART:20200101T000000
END:STANDARD
END:VTIMEZONE
BEGIN:VEVENT
DTSTART;TZID=America/Puerto_Rico:20211019T170000
DTEND;TZID=America/Puerto_Rico:20211019T190000
DTSTAMP:20260422T090123
CREATED:20211005T153647Z
LAST-MODIFIED:20211005T153758Z
UID:11221-1634662800-1634670000@camarapr.org
SUMMARY:Women's Network Conference October 2021
DESCRIPTION:Free of Charge.  Registration required\n			\n			\n				\n				\n				\n				\n			\n				\n				\n				\n				\n				\n				\n				\n				\n				\n				\n				Speaker:\nBrian Rivera Santana\nSenior Loan Officer and Underwriter\, PR\nLatino Economic Development Center \nbriverasantana@ledcmetro.org \nAs a Senior Small Business Loan Officer and Underwriter in Mayagüez\, Puerto Rico\, Brian generates a constant inflow of new lending clients and underwrites small business loan transactions. Before joining the team\, Brian worked as an Attorney Advisor for the US Small Business Administration (SBA)\, authorizing deeds for disaster survivor secured loans. Brian holds a Bachelor of Business Administration (BBA) degree with a concentration in Finance from the Interamerican University of Puerto Rico and a Juris Doctor from the Pontifical Catholic University of Puerto Rico School of Law. In his free time\, Brian enjoys watching movies\, going mountain biking\, exploring new local restaurants\, and spending time with family and friends.
URL:https://camarapr.org/event/conference-red-october2021/
LOCATION:Via Zoom
ATTACH;FMTTYPE=image/jpeg:https://camarapr.org/wp-content/uploads/feature-image-RED-oct.jpg
END:VEVENT
BEGIN:VEVENT
DTSTART;TZID=America/Puerto_Rico:20211029T080000
DTEND;TZID=America/Puerto_Rico:20211029T183000
DTSTAMP:20260422T090123
CREATED:20210809T151319Z
LAST-MODIFIED:20210927T130243Z
UID:9735-1635494400-1635532200@camarapr.org
SUMMARY:Private Sector and Government Forum 2021: Economic Development
DESCRIPTION:  \n			\n				Save your spot. REGISTER TODAY\n			\n				\n				\n				\n				\n				Crucial meeting between new Cabinet Secretaries\, Heads of Agencies\, Leaders of the Legislative Branch and the Private Sector to help our Country. \nInvited Luncheon Keynote Speaker:Hon. Pedro Pierluisi\, Governor of Puerto Rico \nTopics: \n\n\n\n\n\nSpecial Plenary: Washington’s Agenda\nSpecial Plenary: Puerto Rican Legislative Leaders’ Perspective\nFirst Panel: Economic Development for Puerto Rico   \nSecond Panel: Taxes’ Issues  \nSpecial Plenary: Board’s Perspective \n\n\n\n\n\n			\n				Schedule of Events\n			\n				Access the promotional flyer\n			\n				Meet our Speakers
URL:https://camarapr.org/event/private-sector-government-forum/
LOCATION:Caribe Hilton\, 1 C. San Gerónimo\, San Juan\, PR\, 00901\, Puerto Rico
ATTACH;FMTTYPE=image/jpeg:https://camarapr.org/wp-content/uploads/feature-image-FEMPGOB.jpg
END:VEVENT
END:VCALENDAR