BEGIN:VCALENDAR
VERSION:2.0
PRODID:-//Cámara de Comercio de Puerto Rico - ECPv6.15.19//NONSGML v1.0//EN
CALSCALE:GREGORIAN
METHOD:PUBLISH
X-ORIGINAL-URL:https://camarapr.org
X-WR-CALDESC:Events for Cámara de Comercio de Puerto Rico
REFRESH-INTERVAL;VALUE=DURATION:PT1H
X-Robots-Tag:noindex
X-PUBLISHED-TTL:PT1H
BEGIN:VTIMEZONE
TZID:America/Puerto_Rico
BEGIN:STANDARD
TZOFFSETFROM:-0400
TZOFFSETTO:-0400
TZNAME:AST
DTSTART:20200101T000000
END:STANDARD
END:VTIMEZONE
BEGIN:VEVENT
DTSTART;TZID=America/Puerto_Rico:20220623T100000
DTEND;TZID=America/Puerto_Rico:20220623T120000
DTSTAMP:20260423T170601
CREATED:20211020T234842Z
LAST-MODIFIED:20220429T214758Z
UID:11589-1655978400-1655985600@camarapr.org
SUMMARY:Cannabis Industry Series
DESCRIPTION:Access the flyer\n			\n				\n				\n				\n				\n				Save your sport. REGISTER TODAY\n			\n			\n				\n				\n				\n				\n			\n				\n				\n				\n				\n				\n				\n				Register TODAY!\n			\n			\n				\n				\n				\n				\n			\n				\n				\n				\n				\n				\n				\n				\n				\n				\n				\n				Speakers\n			\n			\n				\n				\n				\n				\n			\n				\n				\n				\n				\n				\n				\n				\n				\n				\n				\n				\n				\n					Arlene Questell -Aguirre\, Esq.\n					Executive Director of the Medical Cannabis Regulatory Board at PR \n					Bio \n					X\n				\n			\n			\n				\n				\n				\n				\n				\n				\n				\n				\n				\n				\n				\n					José Antonio Maes-Aponte\, Esq.\n					Managing Member Van Den Berg Law and Consulting \n					Bio \n					LinkedIn
URL:https://camarapr.org/event/cannabis-industry-series/
LOCATION:Via Zoom
CATEGORIES:Luis Gierbolini 2021-2022
ATTACH;FMTTYPE=image/jpeg:https://camarapr.org/wp-content/uploads/feature-image-cannabis-2021.jpg
END:VEVENT
BEGIN:VEVENT
DTSTART;VALUE=DATE:20220609
DTEND;VALUE=DATE:20220611
DTSTAMP:20260423T170601
CREATED:20220307T185736Z
LAST-MODIFIED:20220604T151907Z
UID:13797-1654732800-1654905599@camarapr.org
SUMMARY:PRCC BIZCON + EXPO 2022 GROW
DESCRIPTION:Save your spot. Register TODAY\n			\n				\n				\n				\n				\n				Be part of our annual convention toNETWORK LEARN SUCCED…GROW!\nJoin us on June 9 & 10 at the gorgeous Caribe Hilton to \n☑️ Networking\n☑️ Forums\n☑️ Panels to promote how to do business in Puerto Rico\n ☑️ Exhibits\n☑️ Keynote Luncheons\n☑️ Awards\n     \n			\n				MEET OUR SPEAKERS!\n			\n			\n				\n				\n				\n				\n			\n				\n				\n				\n				\n				\n				\n				Press Kit\n			\n			\n				\n				\n				\n				\n				\n				Program\n			\n			\n				\n				\n				\n				\n				\n				Flyers\n			\n			\n				\n				\n				\n				\n				\n				Sponsorship\n			\n			\n				\n				\n				\n				\n			\n				\n				\n				\n				\n				\n				\n				\n				\n				\n				\n				Visit our Exhibits free of charge and participate in special activities\, networking and raffles!\nCLICK HERE to access our exhibits list\nPROMOTE your products and services!\nThere are still a few available spaces. Call now 787-721-6060\n			\n			\n				\n				\n				\n				\n			\n				\n				\n				\n				\n				\n				\n				\n				\n				\n				\n				\n			\n			\n				\n				\n				\n				\n			\n				\n				\n				\n				\n				\n				\n				\n				\n				\n				\n				Event Sponsors\n			\n			\n				\n				\n				\n				\n			\n				\n				\n				\n				\n				\n				\n				\n				\n				\n				\n				\n				\n				\n					\n							 	\n									\n				\n				\n				\n				\n				\n				\n				\n					 \n									\n									   \n						 \n					\n					      \n							\n				\n			\n				\n				\n				\n				\n				\n				\n				\n					 \n									\n									   \n						 \n					\n					      \n							\n				\n			\n				\n				\n				\n				\n				\n				\n				\n					 \n									\n									   \n						 \n					\n					      \n							\n				\n			\n				\n				\n				\n				\n				\n				\n				\n					 \n									\n									   \n						 \n					\n					      \n							\n				\n			\n				\n				\n				\n				\n				\n				\n				\n					 \n									\n									   \n						 \n					\n					      \n							\n				\n			\n				\n				\n				\n				\n				\n				\n				\n					 \n									\n									   \n						 \n					\n					      \n							\n				\n			\n				\n				\n				\n				\n				\n				\n				\n					 \n									\n									   \n						 \n					\n					      \n							\n				\n			\n				\n				\n				\n				\n				\n				\n				\n					 \n									\n									   \n						 \n					\n					      \n							\n				\n			\n				\n				\n				\n				\n				\n				\n				\n					 \n									\n									   \n						 \n					\n					      \n							\n				\n			\n				\n				\n				\n				\n				\n				\n				\n					 \n									\n									   \n						 \n					\n					      \n							\n				\n			\n				\n				\n				\n				\n				\n				\n				\n					 \n									\n									   \n						 \n					\n					      \n							\n				\n			\n				\n				\n				\n				\n				\n				\n				\n					 \n									\n									   \n						 \n					\n					      \n							\n				\n			\n				\n				\n				\n				\n				\n				\n				\n					 \n									\n									   \n						 \n					\n					      \n							\n				\n			\n				\n				\n				\n				\n				\n				\n				\n					 \n									\n									   \n						 \n					\n					      \n							\n				\n			\n				\n				\n				\n				\n				\n				\n				\n					 \n									\n									   \n						 \n					\n					      \n							\n				\n			\n				\n				\n				\n				\n				\n				\n				\n					 \n									\n									   \n						 \n					\n					      \n							\n				\n			\n				\n				\n				\n				\n				\n				\n				\n					 \n									\n									   \n						 \n					\n					      \n							\n				\n			\n				\n				\n				\n				\n				\n				\n				\n					 \n									\n									   \n						 \n					\n					      \n							\n				\n			\n				\n				\n				\n				\n				\n				\n				\n					 \n									\n									   \n						 \n					\n					      \n							\n				\n			\n				\n				\n				\n				\n				\n				\n				\n					 \n									\n									   \n						 \n					\n					      \n							\n				\n			\n				\n				\n				\n				\n				\n				\n				\n					 \n									\n									   \n						 \n					\n					      \n							\n				\n			\n				\n				\n				\n				\n				\n				\n				\n					 \n									\n									   \n						 \n					\n					      \n							\n				\n			\n				\n				\n				\n				\n				\n				\n				\n					 \n									\n									   \n						 \n					\n					      \n							\n				\n			\n				\n				\n				\n				\n				\n				\n				\n					 \n									\n									   \n						 \n					\n					      \n							\n				\n			\n				\n				\n				\n				\n				\n				\n				\n					 \n									\n									   \n						 \n					\n					      \n							\n				\n				\n									\n								\n														\n							\n				\n			\n			\n				\n				\n				\n				\n			\n				\n				\n				\n				\n				\n				\n				\n				\n				\n				\n				Institutional Sponsors
URL:https://camarapr.org/event/prcc-bizcon-expo-2022-grow/
CATEGORIES:Luis Gierbolini 2021-2022
ATTACH;FMTTYPE=image/jpeg:https://camarapr.org/wp-content/uploads/feature-image-GROW.jpg
END:VEVENT
BEGIN:VEVENT
DTSTART;TZID=America/Puerto_Rico:20220401T080000
DTEND;TZID=America/Puerto_Rico:20220401T173000
DTSTAMP:20260423T170601
CREATED:20220228T194237Z
LAST-MODIFIED:20220330T183439Z
UID:13607-1648800000-1648834200@camarapr.org
SUMMARY:PRHIC 2022
DESCRIPTION:Save your spot. Register TODAY\n			\n				Access the promotion\n			\n				\n				\n				\n				\n				Attention #medtech #healthcare #insurance industries:\nJoin us on April 1 in our conference where we will discuss the following topics:\n🩺  State Innovation Initiatives: Modernizing Puerto Rico’s Health System to Drive Improvements in Care Delivery and Patient Outcomes\nThe U.S. Federal Government Perspective\nThe Puerto Rico Perspective\n🩺  Financing of Healthcare: Importance of the Managed Care Model to Lower Cost\, Increase Quality and Provide Access to Healthcare Services\n🩺 Needs versus Reality in the Healthcare Labor Market\n🩺 Clinical Valued-Based Care Models\n🩺 The Use of Technology to Improve Care Delivery & Patient Outcomes\n🩺 Interoperability: Symbiotic Relationship between the Compliance & Technology of Healthcare\n🩺 U.S. Congress Perspective on Puerto Rico’s Healthcare Agenda    \n     \n			\n			\n				\n				\n				\n				\n			\n				\n				\n				\n				\n				\n				\n				Schedule of Events\n			\n			\n				\n				\n				\n				\n				\n				Meet our Speakers\n			\n			\n				\n				\n				\n				\n			\n				\n				\n				\n				\n				\n				\n				\n				\n				\n				\n				Event Sponsors
URL:https://camarapr.org/event/prhic-2022-eng/
LOCATION:Caribe Hilton\, 1 C. San Gerónimo\, San Juan\, PR\, 00901\, Puerto Rico
CATEGORIES:Luis Gierbolini 2021-2022
ATTACH;FMTTYPE=image/jpeg:https://camarapr.org/wp-content/uploads/feature-image-PRHIC.jpg
END:VEVENT
BEGIN:VEVENT
DTSTART;TZID=America/Puerto_Rico:20220324T083000
DTEND;TZID=America/Puerto_Rico:20220324T123000
DTSTAMP:20260423T170602
CREATED:20220211T214255Z
LAST-MODIFIED:20220315T143520Z
UID:13313-1648110600-1648125000@camarapr.org
SUMMARY:CEO Day Event 2022
DESCRIPTION:Asegura tu espacio. REGÍSTRATE HOY\n			\n				Accede la promoción completa\n			\n				\n				\n				\n				\n				Atención empresario\, start-ups y jóvenes empresarios:\nParticipa en nuestro CEO Day Event y… \n\n\n\n\n\nEscucha historias inspiradoras de influyentes CEOs en Puerto Rico\nConoce más sobre las principales industrias de Puerto Rico \nDescubre oportunidades únicas de negocio e inversión\n\n\n\n\n\n			\n			\n				\n				\n				\n				\n			\n				\n				\n				\n				\n				\n				\n				Conoce a los CEOs invitados\n			\n			\n				\n				\n				\n				\n			\n				\n				\n				\n				\n				\n				\n				\n				\n				\n				\n				Event Sponsor
URL:https://camarapr.org/event/ceo-day-event-2022/
LOCATION:Marriott San Juan Resort & Stellaris Casino\, 1309 Ashford Ave\, San Juan\, Puerto Rico\, 00907\, Puerto Rico
CATEGORIES:Luis Gierbolini 2021-2022
ATTACH;FMTTYPE=image/jpeg:https://camarapr.org/wp-content/uploads/feature-image-CEO-Day-Event.jpg
END:VEVENT
BEGIN:VEVENT
DTSTART;TZID=America/Puerto_Rico:20220309T173000
DTEND;TZID=America/Puerto_Rico:20220309T210000
DTSTAMP:20260423T170602
CREATED:20220302T202927Z
LAST-MODIFIED:20220303T131701Z
UID:13720-1646847000-1646859600@camarapr.org
SUMMARY:B2B-March-2022
DESCRIPTION:Save your spot\n			\n			\n				\n				\n				\n				\n			\n				\n				\n				\n				\n				\n				\n				\n				\n				\n				\n				Members and Entrepreneurs:\nB2B Networking returns!  It is the perfect and FREE PLATFORM to promote your services or products to other members and entrepreneurs \nREMEMBER:\nSpaces are very limited\, save your spot today\nYou will have 3 minutes to present your company\, products or services.\nBring your promotional material for our networking session.\nHope to see you there!
URL:https://camarapr.org/event/b2b-marzo-2022/
LOCATION:Jardin Botánico de Caguas\, Carr. # 156 Km. 56.5 Bo. Cañabón\, Caguas\, 00727\, Puerto Rico
CATEGORIES:Luis Gierbolini 2021-2022
ATTACH;FMTTYPE=image/jpeg:https://camarapr.org/wp-content/uploads/feature-image-B2B.jpg
END:VEVENT
BEGIN:VEVENT
DTSTART;TZID=America/Puerto_Rico:20220209T170000
DTEND;TZID=America/Puerto_Rico:20220209T190000
DTSTAMP:20260423T170602
CREATED:20220107T201413Z
LAST-MODIFIED:20220107T202019Z
UID:12858-1644426000-1644433200@camarapr.org
SUMMARY:Members Extraordinary Assembly
DESCRIPTION:IN PERSON Registration\n			\n				VIRTUAL Registration\n			\n				\n				\n				\n				\n				AnnouncementMembers Extraordinary Assembly \nWe summon all the partners of the Puerto Rico Chamber of Commerceto an Extraordinary Assembly to be held: \nWednesday\, February 9\, 20225:00 p.m.Theater\, Colegio de Ingenieros y Agrimensores de Puerto Ricoand Zoom \nThe Assembly intends to amend the By Laws. \n\n\n\n\nLuis A. Gierbolini Rodríguez\, Esq.\, CPAPresident \n\n\nAlma Aldarondo AlfaroSecretary \n\n\n\n\n			\n				By Laws Amends Report
URL:https://camarapr.org/event/assemby-feb-2022/
LOCATION:Teatro Colegio de Ingenieros y Agrimensores de Puerto Rico\, #500 Calle Ing. Antolín Nin Martínez\, San Juan\, Puerto Rico\, 00918\, Puerto Rico
CATEGORIES:Luis Gierbolini 2021-2022
ATTACH;FMTTYPE=image/jpeg:https://camarapr.org/wp-content/uploads/feature-image-asamblea.jpg
END:VEVENT
BEGIN:VEVENT
DTSTART;TZID=America/Puerto_Rico:20211201T080000
DTEND;TZID=America/Puerto_Rico:20211201T123000
DTSTAMP:20260423T170602
CREATED:20211106T211118Z
LAST-MODIFIED:20211123T022023Z
UID:12072-1638345600-1638361800@camarapr.org
SUMMARY:Presentation: Entrepreneurs and Consumers Confidence Index
DESCRIPTION:Register TODAY!\n			\n				\n				\n				\n				\n				Topics:\nPresentation of the Fourth Edition Study Index of Confidence of the Entrepreneur \nThe Challenges of the Entrepreneur and his Response \nPresentation of the Third Edition Consumer Confidence Index Study  \nConsumer Challenges and the Private Sector Response \nWhere do Entrepreneurs and Consumers match and where are they not? \nReaction Panel \n			\n				Access the flyer\n			\n				Access the agenda\n			\n				Meet our Speakers
URL:https://camarapr.org/event/presentation-confidence-index-dic-2021/
LOCATION:Via Zoom
CATEGORIES:Luis Gierbolini 2021-2022
ATTACH;FMTTYPE=image/jpeg:https://camarapr.org/wp-content/uploads/feature-image-estudios.jpg
END:VEVENT
BEGIN:VEVENT
DTSTART;TZID=America/Puerto_Rico:20210714T080000
DTEND;TZID=America/Puerto_Rico:20210714T090000
DTSTAMP:20260423T170602
CREATED:20210706T150955Z
LAST-MODIFIED:20210719T143330Z
UID:7716-1626249600-1626253200@camarapr.org
SUMMARY:Coffee with the President and President Elect
DESCRIPTION:Make your reservation \n\nPartners\n\nCharge per participant PARTNER. IMPORTANT NOTE: MEMBERS must “login” to their account to obtain this option. If you do not have a partner account\, please write to oteroj@camarapr.net. To finish the REGISTRATION of your participation in this event it is IMPORTANT that you press the button that reads “Confirm”\, otherwise your reservation will not be registered. \n\nNon-Members\n\nCharge per non-member participant. IMPORTANT NOTE: If you are a member\, do not check this option. You must “login” your account to get the partner option. If you require assistance\, please write to oteroj@camarapr.net. To finish the REGISTRATION of your participation in this event it is IMPORTANT that you press the button that reads “Confirm”\, otherwise your reservation will not be registered. \nReserve your space today!
URL:https://camarapr.org/event/coffee-with-the-president-and-president-elect/
LOCATION:Fraternidad AFDA\, #2 Calle Cervantes\, San Juan\, 00907\, Puerto Rico
CATEGORIES:Luis Gierbolini 2021-2022
ATTACH;FMTTYPE=image/jpeg:https://camarapr.org/wp-content/uploads/2021/07/post-Coffee-2021-2.jpg
END:VEVENT
END:VCALENDAR