BEGIN:VCALENDAR
VERSION:2.0
PRODID:-//Cámara de Comercio de Puerto Rico - ECPv6.15.19//NONSGML v1.0//EN
CALSCALE:GREGORIAN
METHOD:PUBLISH
X-ORIGINAL-URL:https://camarapr.org
X-WR-CALDESC:Events for Cámara de Comercio de Puerto Rico
REFRESH-INTERVAL;VALUE=DURATION:PT1H
X-Robots-Tag:noindex
X-PUBLISHED-TTL:PT1H
BEGIN:VTIMEZONE
TZID:America/Puerto_Rico
BEGIN:STANDARD
TZOFFSETFROM:-0400
TZOFFSETTO:-0400
TZNAME:AST
DTSTART:20210101T000000
END:STANDARD
END:VTIMEZONE
BEGIN:VEVENT
DTSTART;TZID=America/Puerto_Rico:20220401T080000
DTEND;TZID=America/Puerto_Rico:20220401T173000
DTSTAMP:20260421T065922
CREATED:20220228T194237Z
LAST-MODIFIED:20220330T183439Z
UID:13607-1648800000-1648834200@camarapr.org
SUMMARY:PRHIC 2022
DESCRIPTION:Save your spot. Register TODAY\n			\n				Access the promotion\n			\n				\n				\n				\n				\n				Attention #medtech #healthcare #insurance industries:\nJoin us on April 1 in our conference where we will discuss the following topics:\n🩺  State Innovation Initiatives: Modernizing Puerto Rico’s Health System to Drive Improvements in Care Delivery and Patient Outcomes\nThe U.S. Federal Government Perspective\nThe Puerto Rico Perspective\n🩺  Financing of Healthcare: Importance of the Managed Care Model to Lower Cost\, Increase Quality and Provide Access to Healthcare Services\n🩺 Needs versus Reality in the Healthcare Labor Market\n🩺 Clinical Valued-Based Care Models\n🩺 The Use of Technology to Improve Care Delivery & Patient Outcomes\n🩺 Interoperability: Symbiotic Relationship between the Compliance & Technology of Healthcare\n🩺 U.S. Congress Perspective on Puerto Rico’s Healthcare Agenda    \n     \n			\n			\n				\n				\n				\n				\n			\n				\n				\n				\n				\n				\n				\n				Schedule of Events\n			\n			\n				\n				\n				\n				\n				\n				Meet our Speakers\n			\n			\n				\n				\n				\n				\n			\n				\n				\n				\n				\n				\n				\n				\n				\n				\n				\n				Event Sponsors
URL:https://camarapr.org/event/prhic-2022-eng/
LOCATION:Caribe Hilton\, 1 C. San Gerónimo\, San Juan\, PR\, 00901\, Puerto Rico
CATEGORIES:Luis Gierbolini 2021-2022
ATTACH;FMTTYPE=image/jpeg:https://camarapr.org/wp-content/uploads/feature-image-PRHIC.jpg
END:VEVENT
END:VCALENDAR